BEGIN:VCALENDAR
VERSION:2.0
PRODID:icalendar-ruby
CALSCALE:GREGORIAN
METHOD:PUBLISH
BEGIN:VEVENT
DTSTAMP:20260422T014849Z
UID:13-1848542@pg-christianchurch.com
DTSTART:20261027T220000Z
DTEND:20261027T230000Z
CLASS:PUBLIC
CREATED:20260421T215940
DESCRIPTION:
LAST-MODIFIED:20260421T215940
LOCATION:
SUMMARY:Tues PM Small Group
URL;VALUE=URI:https://www.pg-christianchurch.com/events/tues-pm-small-group
 /2026-10-27
END:VEVENT
END:VCALENDAR
