BEGIN:VCALENDAR
VERSION:2.0
PRODID:icalendar-ruby
CALSCALE:GREGORIAN
METHOD:PUBLISH
BEGIN:VEVENT
DTSTAMP:20260422T000812Z
UID:13-1847489@pg-christianchurch.com
DTSTART:20261020T220000Z
DTEND:20261020T230000Z
CLASS:PUBLIC
CREATED:20260421T192058
DESCRIPTION:
LAST-MODIFIED:20260421T192058
LOCATION:
SUMMARY:Tues PM Small Group
URL;VALUE=URI:https://www.pg-christianchurch.com/events/tues-pm-small-group
 /2026-10-20
END:VEVENT
END:VCALENDAR
