BEGIN:VCALENDAR
VERSION:2.0
PRODID:icalendar-ruby
CALSCALE:GREGORIAN
METHOD:PUBLISH
BEGIN:VEVENT
DTSTAMP:20260421T210518Z
UID:13-1846435@pg-christianchurch.com
DTSTART:20261006T220000Z
DTEND:20261006T230000Z
CLASS:PUBLIC
CREATED:20260421T164306
DESCRIPTION:
LAST-MODIFIED:20260421T164306
LOCATION:
SUMMARY:Tues PM Small Group
URL;VALUE=URI:https://www.pg-christianchurch.com/events/tues-pm-small-group
 /2026-10-06
END:VEVENT
END:VCALENDAR
