BEGIN:VCALENDAR
VERSION:2.0
PRODID:icalendar-ruby
CALSCALE:GREGORIAN
METHOD:PUBLISH
BEGIN:VEVENT
DTSTAMP:20260421T180659Z
UID:13-1845381@pg-christianchurch.com
DTSTART:20260922T220000Z
DTEND:20260922T230000Z
CLASS:PUBLIC
CREATED:20260421T140637
DESCRIPTION:
LAST-MODIFIED:20260421T140637
LOCATION:
SUMMARY:Tues PM Small Group
URL;VALUE=URI:https://www.pg-christianchurch.com/events/tues-pm-small-group
 /2026-09-22
END:VEVENT
END:VCALENDAR
